BEGIN:VCALENDAR
VERSION:2.0
PRODID:-//LSI Portal - ECPv6.15.17.1//NONSGML v1.0//EN
CALSCALE:GREGORIAN
METHOD:PUBLISH
X-WR-CALNAME:LSI Portal
X-ORIGINAL-URL:https://portal.lsicorp.com
X-WR-CALDESC:Events for LSI Portal
REFRESH-INTERVAL;VALUE=DURATION:PT1H
X-Robots-Tag:noindex
X-PUBLISHED-TTL:PT1H
BEGIN:VTIMEZONE
TZID:America/Denver
BEGIN:DAYLIGHT
TZOFFSETFROM:-0700
TZOFFSETTO:-0600
TZNAME:MDT
DTSTART:20230312T090000
END:DAYLIGHT
BEGIN:STANDARD
TZOFFSETFROM:-0600
TZOFFSETTO:-0700
TZNAME:MST
DTSTART:20231105T080000
END:STANDARD
BEGIN:DAYLIGHT
TZOFFSETFROM:-0700
TZOFFSETTO:-0600
TZNAME:MDT
DTSTART:20240310T090000
END:DAYLIGHT
BEGIN:STANDARD
TZOFFSETFROM:-0600
TZOFFSETTO:-0700
TZNAME:MST
DTSTART:20241103T080000
END:STANDARD
BEGIN:DAYLIGHT
TZOFFSETFROM:-0700
TZOFFSETTO:-0600
TZNAME:MDT
DTSTART:20250309T090000
END:DAYLIGHT
BEGIN:STANDARD
TZOFFSETFROM:-0600
TZOFFSETTO:-0700
TZNAME:MST
DTSTART:20251102T080000
END:STANDARD
END:VTIMEZONE
BEGIN:VEVENT
DTSTART;TZID=America/Denver:20240903T173000
DTEND;TZID=America/Denver:20240905T190000
DTSTAMP:20260424T092155
CREATED:20240717T143306Z
LAST-MODIFIED:20240717T150243Z
UID:10000103-1725384600-1725562800@portal.lsicorp.com
SUMMARY:Pacific Fuels & Convenience Summit
DESCRIPTION:10×10 Booth\, #608 \nLSI Representative: Jeff Hutchinson \nCo-exhibiting w/Rice Christ \n 
URL:https://portal.lsicorp.com/event/pacific-fuels-convenience-summit-2/
LOCATION:Manchester Grand Hyatt San Diego\, 1 Market Pl\, San Diego\, CA\, 92101\, United States
ATTACH;FMTTYPE=image/png:https://portal.lsicorp.com/wp-content/uploads/Screenshot-2024-07-17-103038.png
END:VEVENT
END:VCALENDAR