BEGIN:VCALENDAR
VERSION:2.0
PRODID:-//LSI Portal - ECPv6.15.17.1//NONSGML v1.0//EN
CALSCALE:GREGORIAN
METHOD:PUBLISH
X-ORIGINAL-URL:https://portal.lsicorp.com
X-WR-CALDESC:Events for LSI Portal
REFRESH-INTERVAL;VALUE=DURATION:PT1H
X-Robots-Tag:noindex
X-PUBLISHED-TTL:PT1H
BEGIN:VTIMEZONE
TZID:America/New_York
BEGIN:DAYLIGHT
TZOFFSETFROM:-0500
TZOFFSETTO:-0400
TZNAME:EDT
DTSTART:20230312T070000
END:DAYLIGHT
BEGIN:STANDARD
TZOFFSETFROM:-0400
TZOFFSETTO:-0500
TZNAME:EST
DTSTART:20231105T060000
END:STANDARD
BEGIN:DAYLIGHT
TZOFFSETFROM:-0500
TZOFFSETTO:-0400
TZNAME:EDT
DTSTART:20240310T070000
END:DAYLIGHT
BEGIN:STANDARD
TZOFFSETFROM:-0400
TZOFFSETTO:-0500
TZNAME:EST
DTSTART:20241103T060000
END:STANDARD
BEGIN:DAYLIGHT
TZOFFSETFROM:-0500
TZOFFSETTO:-0400
TZNAME:EDT
DTSTART:20250309T070000
END:DAYLIGHT
BEGIN:STANDARD
TZOFFSETFROM:-0400
TZOFFSETTO:-0500
TZNAME:EST
DTSTART:20251102T060000
END:STANDARD
END:VTIMEZONE
BEGIN:VEVENT
DTSTART;TZID=America/New_York:20240916T080000
DTEND;TZID=America/New_York:20240922T200000
DTSTAMP:20260424T092348
CREATED:20240717T145709Z
LAST-MODIFIED:20240717T145953Z
UID:10000104-1726473600-1727035200@portal.lsicorp.com
SUMMARY:Murphy USA El Dorado Shootout
DESCRIPTION:Event Sponsors \nLSI Representative: Patrick White \nCo-sponsoring w/Rice Christ
URL:https://portal.lsicorp.com/event/murphy-usa-el-dorado-shootout/
LOCATION:Mystic Creek Golf Club\, 1 Champion Cir\, Milford Charter Twp\, MI\, 8380\, United States
ATTACH;FMTTYPE=image/png:https://portal.lsicorp.com/wp-content/uploads/Screenshot-2024-07-17-105014.png
END:VEVENT
BEGIN:VEVENT
DTSTART;TZID=America/New_York:20240917T090000
DTEND;TZID=America/New_York:20240917T180000
DTSTAMP:20260424T092348
CREATED:20240910T181239Z
LAST-MODIFIED:20240910T181310Z
UID:10000147-1726563600-1726596000@portal.lsicorp.com
SUMMARY:IES Cincinnati Golf Classic
DESCRIPTION:Hole sponsorship & foursome \nLSI Representatives: Sarah Fox\, Brian Daley\, Marc Meyer\, Kyle Kaelin\, Mike Burcham
URL:https://portal.lsicorp.com/event/ies-cincinnati-golf-clssic/
ATTACH;FMTTYPE=image/png:https://portal.lsicorp.com/wp-content/uploads/image003-1-e1725991768915.png
END:VEVENT
END:VCALENDAR