BEGIN:VCALENDAR
VERSION:2.0
PRODID:-//LSI Portal - ECPv6.15.17.1//NONSGML v1.0//EN
CALSCALE:GREGORIAN
METHOD:PUBLISH
X-ORIGINAL-URL:https://portal.lsicorp.com
X-WR-CALDESC:Events for LSI Portal
REFRESH-INTERVAL;VALUE=DURATION:PT1H
X-Robots-Tag:noindex
X-PUBLISHED-TTL:PT1H
BEGIN:VTIMEZONE
TZID:America/Denver
BEGIN:DAYLIGHT
TZOFFSETFROM:-0700
TZOFFSETTO:-0600
TZNAME:MDT
DTSTART:20230312T090000
END:DAYLIGHT
BEGIN:STANDARD
TZOFFSETFROM:-0600
TZOFFSETTO:-0700
TZNAME:MST
DTSTART:20231105T080000
END:STANDARD
BEGIN:DAYLIGHT
TZOFFSETFROM:-0700
TZOFFSETTO:-0600
TZNAME:MDT
DTSTART:20240310T090000
END:DAYLIGHT
BEGIN:STANDARD
TZOFFSETFROM:-0600
TZOFFSETTO:-0700
TZNAME:MST
DTSTART:20241103T080000
END:STANDARD
BEGIN:DAYLIGHT
TZOFFSETFROM:-0700
TZOFFSETTO:-0600
TZNAME:MDT
DTSTART:20250309T090000
END:DAYLIGHT
BEGIN:STANDARD
TZOFFSETFROM:-0600
TZOFFSETTO:-0700
TZNAME:MST
DTSTART:20251102T080000
END:STANDARD
END:VTIMEZONE
BEGIN:VEVENT
DTSTART;TZID=America/Denver:20241002T083000
DTEND;TZID=America/Denver:20241002T210000
DTSTAMP:20260424T072947
CREATED:20240917T130618Z
LAST-MODIFIED:20240917T130618Z
UID:10000148-1727857800-1727902800@portal.lsicorp.com
SUMMARY:2024 AAA Automotive Summit
DESCRIPTION:1-6ft. table \nLSI Representative: Patrick White
URL:https://portal.lsicorp.com/event/2024-aaa-automotive-summit/
LOCATION:AAA\, Inc.\, 1000 AAA Drive\, Heathrow\, FL\, 32746\, United States
ATTACH;FMTTYPE=image/jpeg:https://portal.lsicorp.com/wp-content/uploads/4260038-66bb80fe1af09.jpg
END:VEVENT
END:VCALENDAR