BEGIN:VCALENDAR
VERSION:2.0
PRODID:-//LSI Portal - ECPv6.15.17.1//NONSGML v1.0//EN
CALSCALE:GREGORIAN
METHOD:PUBLISH
X-ORIGINAL-URL:https://portal.lsicorp.com
X-WR-CALDESC:Events for LSI Portal
REFRESH-INTERVAL;VALUE=DURATION:PT1H
X-Robots-Tag:noindex
X-PUBLISHED-TTL:PT1H
BEGIN:VTIMEZONE
TZID:America/Halifax
BEGIN:DAYLIGHT
TZOFFSETFROM:-0400
TZOFFSETTO:-0300
TZNAME:ADT
DTSTART:20230312T060000
END:DAYLIGHT
BEGIN:STANDARD
TZOFFSETFROM:-0300
TZOFFSETTO:-0400
TZNAME:AST
DTSTART:20231105T050000
END:STANDARD
BEGIN:DAYLIGHT
TZOFFSETFROM:-0400
TZOFFSETTO:-0300
TZNAME:ADT
DTSTART:20240310T060000
END:DAYLIGHT
BEGIN:STANDARD
TZOFFSETFROM:-0300
TZOFFSETTO:-0400
TZNAME:AST
DTSTART:20241103T050000
END:STANDARD
BEGIN:DAYLIGHT
TZOFFSETFROM:-0400
TZOFFSETTO:-0300
TZNAME:ADT
DTSTART:20250309T060000
END:DAYLIGHT
BEGIN:STANDARD
TZOFFSETFROM:-0300
TZOFFSETTO:-0400
TZNAME:AST
DTSTART:20251102T050000
END:STANDARD
END:VTIMEZONE
BEGIN:VTIMEZONE
TZID:America/New_York
BEGIN:DAYLIGHT
TZOFFSETFROM:-0500
TZOFFSETTO:-0400
TZNAME:EDT
DTSTART:20230312T070000
END:DAYLIGHT
BEGIN:STANDARD
TZOFFSETFROM:-0400
TZOFFSETTO:-0500
TZNAME:EST
DTSTART:20231105T060000
END:STANDARD
BEGIN:DAYLIGHT
TZOFFSETFROM:-0500
TZOFFSETTO:-0400
TZNAME:EDT
DTSTART:20240310T070000
END:DAYLIGHT
BEGIN:STANDARD
TZOFFSETFROM:-0400
TZOFFSETTO:-0500
TZNAME:EST
DTSTART:20241103T060000
END:STANDARD
BEGIN:DAYLIGHT
TZOFFSETFROM:-0500
TZOFFSETTO:-0400
TZNAME:EDT
DTSTART:20250309T070000
END:DAYLIGHT
BEGIN:STANDARD
TZOFFSETFROM:-0400
TZOFFSETTO:-0500
TZNAME:EST
DTSTART:20251102T060000
END:STANDARD
END:VTIMEZONE
BEGIN:VEVENT
DTSTART;TZID=America/Halifax:20241008T090000
DTEND;TZID=America/Halifax:20241009T200000
DTSTAMP:20260424T092506
CREATED:20240722T155418Z
LAST-MODIFIED:20240819T133918Z
UID:10000108-1728378000-1728504000@portal.lsicorp.com
SUMMARY:NRPA 2024 Annual Conference
DESCRIPTION:(National Recreation & Park Association) \n10×20 Booth\, #1764 \nLSI Representatives: Ben Peirick\, Sergio Aguilar
URL:https://portal.lsicorp.com/event/nrpa-2024-annual-conference/
LOCATION:Atlanta | Georgia World Congress Center\, 285 Andrew Young International Blvd NW\, Atlanta\, GA\, 30313\, United States
ATTACH;FMTTYPE=image/png:https://portal.lsicorp.com/wp-content/uploads/2024-logo.png
END:VEVENT
BEGIN:VEVENT
DTSTART;TZID=America/New_York:20241008T103000
DTEND;TZID=America/New_York:20241010T133000
DTSTAMP:20260424T092506
CREATED:20240819T155110Z
LAST-MODIFIED:20250221T170553Z
UID:10000115-1728383400-1728567000@portal.lsicorp.com
SUMMARY:NACS Show 2024
DESCRIPTION:20×30 Booth\, #C7051 \nLSI Representatives: Alan Harvill (EMI)\, Angela Rola\, Brian Daley\, Chris Papa\, Dale Lovejoy\, Dan Cassier (JSI)\, Dave Farmer\, Dave Mueller (EMI)\, Donna Watts\, Greg McBrayer (EMI)\, Gretel Seeley (JSI)\, Jeff Hutchinson\, Jen Sexton (JSI)\, Jim Clark\, John Fox\, Juan Boada\, Kelly Madigan\, Kenneth Siegert\, Kevin Kelly (EMI)\, Kyle Kaelin\, Luke Clements\, Mark Duato\, Michael Prachar\, Mike Burcham\, Nelson Wesley\, Pablo Leguina\, Patrick White\, Robin Hood\, Sean Hamilton\, Terry Awalt (JSI)\, Tim Storey (JSI) \n 
URL:https://portal.lsicorp.com/event/nacs-show-2024/
LOCATION:Las Vegas Convention Center\, 3150 Paradise Rd\, Las Vegas\, NV\, 89109\, United States
ATTACH;FMTTYPE=image/png:https://portal.lsicorp.com/wp-content/uploads/NS24_WeAre_Official-Exhibitor-Color-600dpi-e1724250870245.png
END:VEVENT
END:VCALENDAR