BEGIN:VCALENDAR
VERSION:2.0
PRODID:-//LSI Portal - ECPv6.15.17.1//NONSGML v1.0//EN
CALSCALE:GREGORIAN
METHOD:PUBLISH
X-WR-CALNAME:LSI Portal
X-ORIGINAL-URL:https://portal.lsicorp.com
X-WR-CALDESC:Events for LSI Portal
REFRESH-INTERVAL;VALUE=DURATION:PT1H
X-Robots-Tag:noindex
X-PUBLISHED-TTL:PT1H
BEGIN:VTIMEZONE
TZID:America/New_York
BEGIN:DAYLIGHT
TZOFFSETFROM:-0500
TZOFFSETTO:-0400
TZNAME:EDT
DTSTART:20240310T070000
END:DAYLIGHT
BEGIN:STANDARD
TZOFFSETFROM:-0400
TZOFFSETTO:-0500
TZNAME:EST
DTSTART:20241103T060000
END:STANDARD
BEGIN:DAYLIGHT
TZOFFSETFROM:-0500
TZOFFSETTO:-0400
TZNAME:EDT
DTSTART:20250309T070000
END:DAYLIGHT
BEGIN:STANDARD
TZOFFSETFROM:-0400
TZOFFSETTO:-0500
TZNAME:EST
DTSTART:20251102T060000
END:STANDARD
BEGIN:DAYLIGHT
TZOFFSETFROM:-0500
TZOFFSETTO:-0400
TZNAME:EDT
DTSTART:20260308T070000
END:DAYLIGHT
BEGIN:STANDARD
TZOFFSETFROM:-0400
TZOFFSETTO:-0500
TZNAME:EST
DTSTART:20261101T060000
END:STANDARD
END:VTIMEZONE
BEGIN:VEVENT
DTSTART;TZID=America/New_York:20250504T090000
DTEND;TZID=America/New_York:20250505T140000
DTSTAMP:20260425T100447
CREATED:20250103T144150Z
LAST-MODIFIED:20250414T124717Z
UID:10000166-1746349200-1746453600@portal.lsicorp.com
SUMMARY:Sport Clips 2025 National Huddle
DESCRIPTION:10×10 Booth\, #507 \nLSI Representative: Patrick White
URL:https://portal.lsicorp.com/event/sport-clips-2025-national-huddle/
LOCATION:Henry B. Gonzalez Convention Center\, 900 E Market St\, San Antonio\, TX\, 78205\, United States
ATTACH;FMTTYPE=image/png:https://portal.lsicorp.com/wp-content/uploads/Screenshot-2025-01-03-091915-e1755547088531.png
END:VEVENT
END:VCALENDAR