BEGIN:VCALENDAR
VERSION:2.0
PRODID:-//LSI Portal - ECPv6.15.17.1//NONSGML v1.0//EN
CALSCALE:GREGORIAN
METHOD:PUBLISH
X-ORIGINAL-URL:https://portal.lsicorp.com
X-WR-CALDESC:Events for LSI Portal
REFRESH-INTERVAL;VALUE=DURATION:PT1H
X-Robots-Tag:noindex
X-PUBLISHED-TTL:PT1H
BEGIN:VTIMEZONE
TZID:America/New_York
BEGIN:DAYLIGHT
TZOFFSETFROM:-0500
TZOFFSETTO:-0400
TZNAME:EDT
DTSTART:20240310T070000
END:DAYLIGHT
BEGIN:STANDARD
TZOFFSETFROM:-0400
TZOFFSETTO:-0500
TZNAME:EST
DTSTART:20241103T060000
END:STANDARD
BEGIN:DAYLIGHT
TZOFFSETFROM:-0500
TZOFFSETTO:-0400
TZNAME:EDT
DTSTART:20250309T070000
END:DAYLIGHT
BEGIN:STANDARD
TZOFFSETFROM:-0400
TZOFFSETTO:-0500
TZNAME:EST
DTSTART:20251102T060000
END:STANDARD
BEGIN:DAYLIGHT
TZOFFSETFROM:-0500
TZOFFSETTO:-0400
TZNAME:EDT
DTSTART:20260308T070000
END:DAYLIGHT
BEGIN:STANDARD
TZOFFSETFROM:-0400
TZOFFSETTO:-0500
TZNAME:EST
DTSTART:20261101T060000
END:STANDARD
END:VTIMEZONE
BEGIN:VEVENT
DTSTART;TZID=America/New_York:20250915T080000
DTEND;TZID=America/New_York:20250921T200000
DTSTAMP:20260419T085115
CREATED:20250811T151559Z
LAST-MODIFIED:20250811T151559Z
UID:10000212-1757923200-1758484800@portal.lsicorp.com
SUMMARY:Murphy USA El Dorado Shootout
DESCRIPTION:Event Sponsors \nLSI Representative: Pending \nCo-sponsoring w/Rice Christ
URL:https://portal.lsicorp.com/event/murphy-usa-el-dorado-shootout-2/
LOCATION:Mystic Creek Golf Club\, 1 Champion Cir\, Milford Charter Twp\, MI\, 8380\, United States
ATTACH;FMTTYPE=image/png:https://portal.lsicorp.com/wp-content/uploads/Screenshot-2025-08-11-111224.png
END:VEVENT
BEGIN:VEVENT
DTSTART;TZID=America/New_York:20250917T113000
DTEND;TZID=America/New_York:20250919T143000
DTSTAMP:20260419T085115
CREATED:20250822T140843Z
LAST-MODIFIED:20250822T140948Z
UID:10000221-1758108600-1758292200@portal.lsicorp.com
SUMMARY:IFMA World Workplace
DESCRIPTION:10×10 Booth\, #847 \nLSI Representatives: Nicole Stella\, John Bank
URL:https://portal.lsicorp.com/event/ifma-world-workplace/
LOCATION:Minneapolis Convention Center\, 1301 2nd Ave S\, Minneapolis\, MN\, 55404\, United States
ATTACH;FMTTYPE=image/jpeg:https://portal.lsicorp.com/wp-content/uploads/WW25_Hero-e1755871770509.jpg
END:VEVENT
BEGIN:VEVENT
DTSTART;TZID=America/New_York:20250919T100000
DTEND;TZID=America/New_York:20250919T163000
DTSTAMP:20260419T085115
CREATED:20250916T142342Z
LAST-MODIFIED:20250916T142342Z
UID:10000241-1758276000-1758299400@portal.lsicorp.com
SUMMARY:IEC 9th Annual Sporting Clay Shoot
DESCRIPTION:Event sponsors \nLSI Representatives: Bob Heaton\, Warren Chornohus
URL:https://portal.lsicorp.com/event/iec-9th-annual-sporting-clay-shoot/
LOCATION:Sycamore Pheasant Club\, 6254 Lower Lewis Rd\, Loveland\, OH\, 45150\, United States
ATTACH;FMTTYPE=image/png:https://portal.lsicorp.com/wp-content/uploads/Screenshot-2025-09-16-102259.png
END:VEVENT
END:VCALENDAR