BEGIN:VCALENDAR
VERSION:2.0
PRODID:-//LSI Portal - ECPv6.15.17.1//NONSGML v1.0//EN
CALSCALE:GREGORIAN
METHOD:PUBLISH
X-WR-CALNAME:LSI Portal
X-ORIGINAL-URL:https://portal.lsicorp.com
X-WR-CALDESC:Events for LSI Portal
REFRESH-INTERVAL;VALUE=DURATION:PT1H
X-Robots-Tag:noindex
X-PUBLISHED-TTL:PT1H
BEGIN:VTIMEZONE
TZID:America/New_York
BEGIN:DAYLIGHT
TZOFFSETFROM:-0500
TZOFFSETTO:-0400
TZNAME:EDT
DTSTART:20230312T070000
END:DAYLIGHT
BEGIN:STANDARD
TZOFFSETFROM:-0400
TZOFFSETTO:-0500
TZNAME:EST
DTSTART:20231105T060000
END:STANDARD
BEGIN:DAYLIGHT
TZOFFSETFROM:-0500
TZOFFSETTO:-0400
TZNAME:EDT
DTSTART:20240310T070000
END:DAYLIGHT
BEGIN:STANDARD
TZOFFSETFROM:-0400
TZOFFSETTO:-0500
TZNAME:EST
DTSTART:20241103T060000
END:STANDARD
BEGIN:DAYLIGHT
TZOFFSETFROM:-0500
TZOFFSETTO:-0400
TZNAME:EDT
DTSTART:20250309T070000
END:DAYLIGHT
BEGIN:STANDARD
TZOFFSETFROM:-0400
TZOFFSETTO:-0500
TZNAME:EST
DTSTART:20251102T060000
END:STANDARD
END:VTIMEZONE
BEGIN:VTIMEZONE
TZID:America/Los_Angeles
BEGIN:DAYLIGHT
TZOFFSETFROM:-0800
TZOFFSETTO:-0700
TZNAME:PDT
DTSTART:20230312T100000
END:DAYLIGHT
BEGIN:STANDARD
TZOFFSETFROM:-0700
TZOFFSETTO:-0800
TZNAME:PST
DTSTART:20231105T090000
END:STANDARD
BEGIN:DAYLIGHT
TZOFFSETFROM:-0800
TZOFFSETTO:-0700
TZNAME:PDT
DTSTART:20240310T100000
END:DAYLIGHT
BEGIN:STANDARD
TZOFFSETFROM:-0700
TZOFFSETTO:-0800
TZNAME:PST
DTSTART:20241103T090000
END:STANDARD
BEGIN:DAYLIGHT
TZOFFSETFROM:-0800
TZOFFSETTO:-0700
TZNAME:PDT
DTSTART:20250309T100000
END:DAYLIGHT
BEGIN:STANDARD
TZOFFSETFROM:-0700
TZOFFSETTO:-0800
TZNAME:PST
DTSTART:20251102T090000
END:STANDARD
END:VTIMEZONE
BEGIN:VTIMEZONE
TZID:America/Halifax
BEGIN:DAYLIGHT
TZOFFSETFROM:-0400
TZOFFSETTO:-0300
TZNAME:ADT
DTSTART:20230312T060000
END:DAYLIGHT
BEGIN:STANDARD
TZOFFSETFROM:-0300
TZOFFSETTO:-0400
TZNAME:AST
DTSTART:20231105T050000
END:STANDARD
BEGIN:DAYLIGHT
TZOFFSETFROM:-0400
TZOFFSETTO:-0300
TZNAME:ADT
DTSTART:20240310T060000
END:DAYLIGHT
BEGIN:STANDARD
TZOFFSETFROM:-0300
TZOFFSETTO:-0400
TZNAME:AST
DTSTART:20241103T050000
END:STANDARD
BEGIN:DAYLIGHT
TZOFFSETFROM:-0400
TZOFFSETTO:-0300
TZNAME:ADT
DTSTART:20250309T060000
END:DAYLIGHT
BEGIN:STANDARD
TZOFFSETFROM:-0300
TZOFFSETTO:-0400
TZNAME:AST
DTSTART:20251102T050000
END:STANDARD
END:VTIMEZONE
BEGIN:VTIMEZONE
TZID:America/Denver
BEGIN:DAYLIGHT
TZOFFSETFROM:-0700
TZOFFSETTO:-0600
TZNAME:MDT
DTSTART:20230312T090000
END:DAYLIGHT
BEGIN:STANDARD
TZOFFSETFROM:-0600
TZOFFSETTO:-0700
TZNAME:MST
DTSTART:20231105T080000
END:STANDARD
BEGIN:DAYLIGHT
TZOFFSETFROM:-0700
TZOFFSETTO:-0600
TZNAME:MDT
DTSTART:20240310T090000
END:DAYLIGHT
BEGIN:STANDARD
TZOFFSETFROM:-0600
TZOFFSETTO:-0700
TZNAME:MST
DTSTART:20241103T080000
END:STANDARD
BEGIN:DAYLIGHT
TZOFFSETFROM:-0700
TZOFFSETTO:-0600
TZNAME:MDT
DTSTART:20250309T090000
END:DAYLIGHT
BEGIN:STANDARD
TZOFFSETFROM:-0600
TZOFFSETTO:-0700
TZNAME:MST
DTSTART:20251102T080000
END:STANDARD
END:VTIMEZONE
BEGIN:VTIMEZONE
TZID:America/Chicago
BEGIN:DAYLIGHT
TZOFFSETFROM:-0600
TZOFFSETTO:-0500
TZNAME:CDT
DTSTART:20230312T080000
END:DAYLIGHT
BEGIN:STANDARD
TZOFFSETFROM:-0500
TZOFFSETTO:-0600
TZNAME:CST
DTSTART:20231105T070000
END:STANDARD
BEGIN:DAYLIGHT
TZOFFSETFROM:-0600
TZOFFSETTO:-0500
TZNAME:CDT
DTSTART:20240310T080000
END:DAYLIGHT
BEGIN:STANDARD
TZOFFSETFROM:-0500
TZOFFSETTO:-0600
TZNAME:CST
DTSTART:20241103T070000
END:STANDARD
BEGIN:DAYLIGHT
TZOFFSETFROM:-0600
TZOFFSETTO:-0500
TZNAME:CDT
DTSTART:20250309T080000
END:DAYLIGHT
BEGIN:STANDARD
TZOFFSETFROM:-0500
TZOFFSETTO:-0600
TZNAME:CST
DTSTART:20251102T070000
END:STANDARD
END:VTIMEZONE
BEGIN:VEVENT
DTSTART;TZID=America/New_York:20241029T110000
DTEND;TZID=America/New_York:20241029T190000
DTSTAMP:20260424T075024
CREATED:20240820T151033Z
LAST-MODIFIED:20240820T151214Z
UID:10000120-1730199600-1730228400@portal.lsicorp.com
SUMMARY:NYControlled 2024
DESCRIPTION:1 6-ft table \nLSI Representatives: Brian Daley\, Mark Reed\, Joe Consigli
URL:https://portal.lsicorp.com/event/nycontrolled-2024/
LOCATION:Metropolitan Pavilion\, 125 W 18th Street\, New York\, NY\, 10011\, United States
ATTACH;FMTTYPE=image/jpeg:https://portal.lsicorp.com/wp-content/uploads/04c12d02-fb4Booth-Sales-Email-e1724166627304.jpg
END:VEVENT
BEGIN:VEVENT
DTSTART;TZID=America/New_York:20241028T080000
DTEND;TZID=America/New_York:20241030T170000
DTSTAMP:20260424T075024
CREATED:20240820T141203Z
LAST-MODIFIED:20241021T130626Z
UID:10000118-1730102400-1730307600@portal.lsicorp.com
SUMMARY:Burger King US&C Convention
DESCRIPTION:10×10 Booth \nLSI Representatives: David Simmons\, Brian Mortensen\, Julie Cooper\, Pablo Leguina\, Bob Lucas\, Mike Connolly\, Nicole Stella
URL:https://portal.lsicorp.com/event/burger-king-usc-convention/
LOCATION:Mandalay Bay\, 3950 S Las Vegas Blvd\, Las Vegas\, Nevada\, 89119\, United States
ATTACH;FMTTYPE=image/png:https://portal.lsicorp.com/wp-content/uploads/image004-e1724163117818.png
END:VEVENT
BEGIN:VEVENT
DTSTART;TZID=America/New_York:20241017T090000
DTEND;TZID=America/New_York:20241017T140000
DTSTAMP:20260424T075024
CREATED:20240819T180528Z
LAST-MODIFIED:20241016T171604Z
UID:10000116-1729155600-1729173600@portal.lsicorp.com
SUMMARY:2024 Central Ohio Facilities Maintenance & Management Expo
DESCRIPTION:1- 6ft. table\, 40-minute speaking opportunity \nLSI Representative: Marc Meyer\, Kyle Kaelin
URL:https://portal.lsicorp.com/event/2024-central-ohio-facilities-maintenance-management-expo/
LOCATION:Makoy Center\, 5462 Center Street\, Hilliard\, 43026\, United States
ATTACH;FMTTYPE=image/png:https://portal.lsicorp.com/wp-content/uploads/banner-logo.png
END:VEVENT
BEGIN:VEVENT
DTSTART;TZID=America/New_York:20241016T080000
DTEND;TZID=America/New_York:20241016T170000
DTSTAMP:20260424T075024
CREATED:20240909T193146Z
LAST-MODIFIED:20240909T193259Z
UID:10000144-1729065600-1729098000@portal.lsicorp.com
SUMMARY:Dunkin DAC Meeting
DESCRIPTION:1- 8ft. table \nLSI Representative: Sandi Halo
URL:https://portal.lsicorp.com/event/dunkin-dac-meeting/
LOCATION:Crowne Plaza College Park\, 6400 Ivy Ln\, Greenbelt\, MD\, 20770
ATTACH;FMTTYPE=image/jpeg:https://portal.lsicorp.com/wp-content/uploads/Dunkin-Donuts-logo-scaled-e1725910374790.jpg
END:VEVENT
BEGIN:VEVENT
DTSTART;TZID=America/New_York:20241015T083000
DTEND;TZID=America/New_York:20241015T183000
DTSTAMP:20260424T075024
CREATED:20240924T133134Z
LAST-MODIFIED:20241014T133853Z
UID:10000149-1728981000-1729017000@portal.lsicorp.com
SUMMARY:Illuminate Philadelphia
DESCRIPTION:1- 6ft. table \nLSI Representatives: Joe Consigli\, Cecil Thomas\, Brian Daley
URL:https://portal.lsicorp.com/event/illuminate-philadelphia/
LOCATION:CYTO PHL\, 2929 Arch St\, Philadelphia\, PA\, 19104\, United States
ATTACH;FMTTYPE=image/png:https://portal.lsicorp.com/wp-content/uploads/Ill-Phl-logo-2024.png
END:VEVENT
BEGIN:VEVENT
DTSTART;TZID=America/Los_Angeles:20241013T080000
DTEND;TZID=America/Los_Angeles:20241016T170000
DTSTAMP:20260424T075024
CREATED:20240820T141733Z
LAST-MODIFIED:20240820T143348Z
UID:10000119-1728806400-1729098000@portal.lsicorp.com
SUMMARY:NALMCO Annual Convention and Trade Show
DESCRIPTION:(National Association of Lighting Management Companies) \n10×10 Booth\, #28 \nLSI Representatives: David McAtee\, Josh Wheeler\, Karla Garcia\, Nicole Stella
URL:https://portal.lsicorp.com/event/nalmco-annual-convention-and-trade-show-2/
LOCATION:Omni Orlando Resort at ChampionsGate\, 1500 Masters Blvd\, Championsgate\, FL\, 33896\, United States
ATTACH;FMTTYPE=image/png:https://portal.lsicorp.com/wp-content/uploads/1719260231883-2024ConventionandTradeShow_1920x1080-PowerPoint.png
END:VEVENT
BEGIN:VEVENT
DTSTART;TZID=America/New_York:20241008T103000
DTEND;TZID=America/New_York:20241010T133000
DTSTAMP:20260424T075024
CREATED:20240819T155110Z
LAST-MODIFIED:20250221T170553Z
UID:10000115-1728383400-1728567000@portal.lsicorp.com
SUMMARY:NACS Show 2024
DESCRIPTION:20×30 Booth\, #C7051 \nLSI Representatives: Alan Harvill (EMI)\, Angela Rola\, Brian Daley\, Chris Papa\, Dale Lovejoy\, Dan Cassier (JSI)\, Dave Farmer\, Dave Mueller (EMI)\, Donna Watts\, Greg McBrayer (EMI)\, Gretel Seeley (JSI)\, Jeff Hutchinson\, Jen Sexton (JSI)\, Jim Clark\, John Fox\, Juan Boada\, Kelly Madigan\, Kenneth Siegert\, Kevin Kelly (EMI)\, Kyle Kaelin\, Luke Clements\, Mark Duato\, Michael Prachar\, Mike Burcham\, Nelson Wesley\, Pablo Leguina\, Patrick White\, Robin Hood\, Sean Hamilton\, Terry Awalt (JSI)\, Tim Storey (JSI) \n 
URL:https://portal.lsicorp.com/event/nacs-show-2024/
LOCATION:Las Vegas Convention Center\, 3150 Paradise Rd\, Las Vegas\, NV\, 89109\, United States
ATTACH;FMTTYPE=image/png:https://portal.lsicorp.com/wp-content/uploads/NS24_WeAre_Official-Exhibitor-Color-600dpi-e1724250870245.png
END:VEVENT
BEGIN:VEVENT
DTSTART;TZID=America/Halifax:20241008T090000
DTEND;TZID=America/Halifax:20241009T200000
DTSTAMP:20260424T075024
CREATED:20240722T155418Z
LAST-MODIFIED:20240819T133918Z
UID:10000108-1728378000-1728504000@portal.lsicorp.com
SUMMARY:NRPA 2024 Annual Conference
DESCRIPTION:(National Recreation & Park Association) \n10×20 Booth\, #1764 \nLSI Representatives: Ben Peirick\, Sergio Aguilar
URL:https://portal.lsicorp.com/event/nrpa-2024-annual-conference/
LOCATION:Atlanta | Georgia World Congress Center\, 285 Andrew Young International Blvd NW\, Atlanta\, GA\, 30313\, United States
ATTACH;FMTTYPE=image/png:https://portal.lsicorp.com/wp-content/uploads/2024-logo.png
END:VEVENT
BEGIN:VEVENT
DTSTART;TZID=America/New_York:20241006T120000
DTEND;TZID=America/New_York:20241008T120000
DTSTAMP:20260424T075024
CREATED:20240905T133237Z
LAST-MODIFIED:20240905T142419Z
UID:10000141-1728216000-1728388800@portal.lsicorp.com
SUMMARY:Restaurant Spaces Fall
DESCRIPTION:(12) private 1v1 meetings \nLSI Representatives: Sandi Halo\,  Robbie Teston (EMI)\, Kerri Tortolani (EMI)
URL:https://portal.lsicorp.com/event/restaurantspaces-fall/
LOCATION:The Meritage Resort & Spa\, 875 Bordeaux Way\, Napa\, CA\, 94558\, United States
ATTACH;FMTTYPE=image/png:https://portal.lsicorp.com/wp-content/uploads/Screenshot-2024-09-05-092758.png
END:VEVENT
BEGIN:VEVENT
DTSTART;TZID=America/New_York:20241003T160000
DTEND;TZID=America/New_York:20241003T190000
DTSTAMP:20260424T075024
CREATED:20240819T152645Z
LAST-MODIFIED:20240826T133915Z
UID:10000114-1727971200-1727982000@portal.lsicorp.com
SUMMARY:C&O Omaha Fall Event 2024
DESCRIPTION:1-6ft. table \nLSI Representative: Brent Streck
URL:https://portal.lsicorp.com/event/co-omaha-fall-event-2024/
LOCATION:Blue Sky\, 10730 Pacific St Suite 150\, Omaha\, NE\, 68114\, United States
ATTACH;FMTTYPE=image/jpeg:https://portal.lsicorp.com/wp-content/uploads/logo.jpg
END:VEVENT
BEGIN:VEVENT
DTSTART;TZID=America/New_York:20241003T070000
DTEND;TZID=America/New_York:20241003T173000
DTSTAMP:20260424T075024
CREATED:20240814T143501Z
LAST-MODIFIED:20240814T143501Z
UID:10000113-1727938800-1727976600@portal.lsicorp.com
SUMMARY:2024 IMEG Rebuild Conference
DESCRIPTION:1-6 ft. table at the event \nLSI Representative: Bob Heaton
URL:https://portal.lsicorp.com/event/2024-imeg-rebuild-conference/
LOCATION:TQL Stadium\, 1501 Central Pkwy\, Cincinnati\, OH\, 45214\, United States
ATTACH;FMTTYPE=image/jpeg:https://portal.lsicorp.com/wp-content/uploads/PED_Social-AnniversaryArt-DesignA_LI-600x322-1.jpg
END:VEVENT
BEGIN:VEVENT
DTSTART;TZID=America/Denver:20241002T083000
DTEND;TZID=America/Denver:20241002T210000
DTSTAMP:20260424T075024
CREATED:20240917T130618Z
LAST-MODIFIED:20240917T130618Z
UID:10000148-1727857800-1727902800@portal.lsicorp.com
SUMMARY:2024 AAA Automotive Summit
DESCRIPTION:1-6ft. table \nLSI Representative: Patrick White
URL:https://portal.lsicorp.com/event/2024-aaa-automotive-summit/
LOCATION:AAA\, Inc.\, 1000 AAA Drive\, Heathrow\, FL\, 32746\, United States
ATTACH;FMTTYPE=image/jpeg:https://portal.lsicorp.com/wp-content/uploads/4260038-66bb80fe1af09.jpg
END:VEVENT
BEGIN:VEVENT
DTSTART;TZID=America/New_York:20240926T150000
DTEND;TZID=America/New_York:20240926T200000
DTSTAMP:20260424T075024
CREATED:20240814T141408Z
LAST-MODIFIED:20240814T141408Z
UID:10000112-1727362800-1727380800@portal.lsicorp.com
SUMMARY:The 2024 Harry Cooper/Joplin Supply Trade Show
DESCRIPTION:8×10 Booth \nLSI Representative: Brent Streck \nCo/exhibiting w/C&O
URL:https://portal.lsicorp.com/event/the-2024-harry-cooper-joplin-supply-trade-show/
LOCATION:Downstream Casino Resort\, 69300 E Nee Rd\, Quapaw\, OK\, 74363\, United States
ATTACH;FMTTYPE=image/png:https://portal.lsicorp.com/wp-content/uploads/Screenshot-2024-08-14-094019.png
END:VEVENT
BEGIN:VEVENT
DTSTART;TZID=America/New_York:20240920T100000
DTEND;TZID=America/New_York:20240920T163000
DTSTAMP:20260424T075024
CREATED:20240808T145254Z
LAST-MODIFIED:20240916T152643Z
UID:10000110-1726826400-1726849800@portal.lsicorp.com
SUMMARY:IEC 8th Annual Sporting Clay Shoot
DESCRIPTION:1-6ft table \nLSI Representatives: Bob Heaton\, Kelly Madigan
URL:https://portal.lsicorp.com/event/iec-8th-annual-sporting-clay-shoot/
LOCATION:Sycamore Pheasant Club\, 6254 Lower Lewis Rd\, Loveland\, OH\, 45150\, United States
ATTACH;FMTTYPE=image/png:https://portal.lsicorp.com/wp-content/uploads/Screenshot-2024-08-08-104805.png
END:VEVENT
BEGIN:VEVENT
DTSTART;TZID=America/New_York:20240920T090000
DTEND;TZID=America/New_York:20240920T140000
DTSTAMP:20260424T075024
CREATED:20240814T133748Z
LAST-MODIFIED:20240814T133748Z
UID:10000111-1726822800-1726840800@portal.lsicorp.com
SUMMARY:IES Oklahoma Golf Tournament
DESCRIPTION:1-6 ft. table at the event w/outdoor tent \nLSI Representative: Andy Burns \nCo-sponsoring w/Bell & McCoy
URL:https://portal.lsicorp.com/event/ies-oklahoma-golf-tournament/
ATTACH;FMTTYPE=image/png:https://portal.lsicorp.com/wp-content/uploads/Oklahoma-City-Section-logo.png
END:VEVENT
BEGIN:VEVENT
DTSTART;TZID=America/New_York:20240918T080000
DTEND;TZID=America/New_York:20240918T160000
DTSTAMP:20260424T075024
CREATED:20240821T131737Z
LAST-MODIFIED:20240821T133404Z
UID:10000124-1726646400-1726675200@portal.lsicorp.com
SUMMARY:PIVOT 2024
DESCRIPTION:1-6ft. table \nLSI Representatives: Brian Daley\, Kyle Kaelin
URL:https://portal.lsicorp.com/event/pivot-2024/
LOCATION:Sinclair Community College\, West Third & Perry Street\, Dayton\, OH\, 45402\, United States
ATTACH;FMTTYPE=image/png:https://portal.lsicorp.com/wp-content/uploads/Screenshot-2024-08-21-091221.png
END:VEVENT
BEGIN:VEVENT
DTSTART;TZID=America/New_York:20240917T090000
DTEND;TZID=America/New_York:20240917T180000
DTSTAMP:20260424T075024
CREATED:20240910T181239Z
LAST-MODIFIED:20240910T181310Z
UID:10000147-1726563600-1726596000@portal.lsicorp.com
SUMMARY:IES Cincinnati Golf Classic
DESCRIPTION:Hole sponsorship & foursome \nLSI Representatives: Sarah Fox\, Brian Daley\, Marc Meyer\, Kyle Kaelin\, Mike Burcham
URL:https://portal.lsicorp.com/event/ies-cincinnati-golf-clssic/
ATTACH;FMTTYPE=image/png:https://portal.lsicorp.com/wp-content/uploads/image003-1-e1725991768915.png
END:VEVENT
BEGIN:VEVENT
DTSTART;TZID=America/New_York:20240916T080000
DTEND;TZID=America/New_York:20240922T200000
DTSTAMP:20260424T075024
CREATED:20240717T145709Z
LAST-MODIFIED:20240717T145953Z
UID:10000104-1726473600-1727035200@portal.lsicorp.com
SUMMARY:Murphy USA El Dorado Shootout
DESCRIPTION:Event Sponsors \nLSI Representative: Patrick White \nCo-sponsoring w/Rice Christ
URL:https://portal.lsicorp.com/event/murphy-usa-el-dorado-shootout/
LOCATION:Mystic Creek Golf Club\, 1 Champion Cir\, Milford Charter Twp\, MI\, 8380\, United States
ATTACH;FMTTYPE=image/png:https://portal.lsicorp.com/wp-content/uploads/Screenshot-2024-07-17-105014.png
END:VEVENT
BEGIN:VEVENT
DTSTART;TZID=America/Denver:20240911T080000
DTEND;TZID=America/Denver:20240912T170000
DTSTAMP:20260424T075024
CREATED:20240718T173016Z
LAST-MODIFIED:20240910T175801Z
UID:10000107-1726041600-1726160400@portal.lsicorp.com
SUMMARY:Blankenship/East Washington Sporting Clay Shootout
DESCRIPTION:1-6ft table \nLSI Representative: Marc Sheff
URL:https://portal.lsicorp.com/event/blankenship-east-washington-sporting-clay-shootout-2/
LOCATION:Rock Lake Sporting Clays\, 4862 Stephen Road\, St. John\, WA\, 99171\, United States
ATTACH;FMTTYPE=image/jpeg:https://portal.lsicorp.com/wp-content/uploads/crop-e1721323784522.jpg
END:VEVENT
BEGIN:VEVENT
DTSTART;TZID=America/Denver:20240903T173000
DTEND;TZID=America/Denver:20240905T190000
DTSTAMP:20260424T075024
CREATED:20240717T143306Z
LAST-MODIFIED:20240717T150243Z
UID:10000103-1725384600-1725562800@portal.lsicorp.com
SUMMARY:Pacific Fuels & Convenience Summit
DESCRIPTION:10×10 Booth\, #608 \nLSI Representative: Jeff Hutchinson \nCo-exhibiting w/Rice Christ \n 
URL:https://portal.lsicorp.com/event/pacific-fuels-convenience-summit-2/
LOCATION:Manchester Grand Hyatt San Diego\, 1 Market Pl\, San Diego\, CA\, 92101\, United States
ATTACH;FMTTYPE=image/png:https://portal.lsicorp.com/wp-content/uploads/Screenshot-2024-07-17-103038.png
END:VEVENT
BEGIN:VEVENT
DTSTART;TZID=America/New_York:20240826T080000
DTEND;TZID=America/New_York:20240828T233000
DTSTAMP:20260424T075024
CREATED:20240709T193440Z
LAST-MODIFIED:20240819T133646Z
UID:10000102-1724659200-1724887800@portal.lsicorp.com
SUMMARY:Firehouse Subs 30th Anniversary Reunion
DESCRIPTION:10×10 Booth\, #324 \nLSI Representatives: Bob Lucas\, Melissa Rutter
URL:https://portal.lsicorp.com/event/firehouse-subs-30th-anniversary-reunion/
LOCATION:Austin Convention Center\, 500 E Cesar Chavez St\, Austin\, TX\, 78701\, United States
ATTACH;FMTTYPE=image/png:https://portal.lsicorp.com/wp-content/uploads/Screenshot-2024-07-09-153348.png
END:VEVENT
BEGIN:VEVENT
DTSTART;TZID=America/New_York:20240821T080000
DTEND;TZID=America/New_York:20240822T170000
DTSTAMP:20260424T075024
CREATED:20240709T193109Z
LAST-MODIFIED:20240819T151348Z
UID:10000101-1724227200-1724346000@portal.lsicorp.com
SUMMARY:Big Chicken Annual Franchisee Conference
DESCRIPTION:10×10 Booth \nLSI Representative: Bob Lucas\, Brian Mortensen
URL:https://portal.lsicorp.com/event/big-chicken-annual-franchisee-conference/
LOCATION:Virgin Hotel\, 4455 Paradise Rd\, Las Vegas\, 89169\, United States
ATTACH;FMTTYPE=image/png:https://portal.lsicorp.com/wp-content/uploads/Screenshot-2024-07-09-154026.png
END:VEVENT
BEGIN:VEVENT
DTSTART;TZID=America/Chicago:20240729T150000
DTEND;TZID=America/Chicago:20240730T200000
DTSTAMP:20260424T075024
CREATED:20230628T210122Z
LAST-MODIFIED:20240715T142200Z
UID:10000060-1722265200-1722369600@portal.lsicorp.com
SUMMARY:Bell & McCoy LightX 2024
DESCRIPTION:30×30 Booth\, 1 hour CEU \nLSI Representatives: Marc Sheff\, Andy Burns\, Sergio Aguilar\, Pablo Leguina\, Ben Peirick\, Brian Daley\, Marc Meyer\, Andrew Herrera\, Nicole Stella\, Kelly Madigan
URL:https://portal.lsicorp.com/event/bell-mccoy-lightx/
LOCATION:Gaylord Texan Resort & Convention Center\, 1501 Gaylord Trail\, Grapevine\, TX\, 76051\, United States
ATTACH;FMTTYPE=image/png:https://portal.lsicorp.com/wp-content/uploads/thumbnail_image003-1.png
END:VEVENT
BEGIN:VEVENT
DTSTART;TZID=America/Halifax:20240727T120000
DTEND;TZID=America/Halifax:20240727T163000
DTSTAMP:20260424T075024
CREATED:20240717T152239Z
LAST-MODIFIED:20240717T152332Z
UID:10000106-1722081600-1722097800@portal.lsicorp.com
SUMMARY:Keep Going 25 Pickleball Social
DESCRIPTION:Sponsors: 2 teams playing in tournament & 1-6ft. table to hand out swag and marketing materials \nLSI Representatives: Ben Peirick\, Kyle Kaelin\, Mike Burcham\, Marc Meyer\, Brian Daley\, Kelly Madigan
URL:https://portal.lsicorp.com/event/keep-going-25-pickleball-social/
LOCATION:The Pickle Lodge\, 7373 Kingsgate Way\, West Chester Township\, OH\, 45069\, United States
ATTACH;FMTTYPE=image/png:https://portal.lsicorp.com/wp-content/uploads/Screenshot-2024-07-17-111905.png
END:VEVENT
BEGIN:VEVENT
DTSTART;TZID=America/Halifax:20240723T103000
DTEND;TZID=America/Halifax:20240723T190000
DTSTAMP:20260424T075024
CREATED:20240717T151727Z
LAST-MODIFIED:20240717T151752Z
UID:10000105-1721730600-1721761200@portal.lsicorp.com
SUMMARY:Auto Dealers Association of Greater Philadelphia 109th Annual Golf Outing
DESCRIPTION:Sponsors\, hosting a pitching contest \nLSI Representative: Joe Consigli
URL:https://portal.lsicorp.com/event/auto-dealers-association-of-greater-philadelphia-109th-annual-golf-outing/
LOCATION:Union League Liberty Hill Golf Club\, 800 Ridge Pike\, Lafayette Hill\, PA\, 19444\, United States
ATTACH;FMTTYPE=image/png:https://portal.lsicorp.com/wp-content/uploads/download.png
END:VEVENT
BEGIN:VEVENT
DTSTART;TZID=America/New_York:20240719T080000
DTEND;TZID=America/New_York:20240719T120000
DTSTAMP:20260424T075024
CREATED:20240607T130943Z
LAST-MODIFIED:20240607T130943Z
UID:10000100-1721376000-1721390400@portal.lsicorp.com
SUMMARY:IES Des Moines Product Showcase
DESCRIPTION:1- 6ft. table \nLSI Representative: Brent Streck \nCo-exhibiting w/C&O Sales
URL:https://portal.lsicorp.com/event/ies-des-moines-product-showcase/
LOCATION:Prairie Meadows Event Center\, 1 Prairie Meadows Dr\, Altoona\, IA\, 50009\, United States
ATTACH;FMTTYPE=image/png:https://portal.lsicorp.com/wp-content/uploads/Screenshot-2024-06-07-090043.png
END:VEVENT
BEGIN:VEVENT
DTSTART;TZID=America/Denver:20240718T100000
DTEND;TZID=America/Denver:20240718T180000
DTSTAMP:20260424T075024
CREATED:20240528T160234Z
LAST-MODIFIED:20240709T191643Z
UID:10000099-1721296800-1721325600@portal.lsicorp.com
SUMMARY:ERW Trunk Show
DESCRIPTION:1- 6ft. table at event \nLSI Representative: Thos Gibson\, Marc Sheff\, Sean Fox
URL:https://portal.lsicorp.com/event/erw-trunk-show/
LOCATION:ERW Showroom\, 5811 6th Avenue South\, Seattle\, WA\, 98108\, United States
ATTACH;FMTTYPE=image/jpeg:https://portal.lsicorp.com/wp-content/uploads/erw.jpg
END:VEVENT
BEGIN:VEVENT
DTSTART;TZID=America/New_York:20240710T170000
DTEND;TZID=America/New_York:20240710T203000
DTSTAMP:20260424T075024
CREATED:20240521T130806Z
LAST-MODIFIED:20240708T123149Z
UID:10000098-1720630800-1720643400@portal.lsicorp.com
SUMMARY:2024 JIB-NFA Tradeshow
DESCRIPTION:10×10 Booth\, #223 \nLSI Representative: Sandi Halo
URL:https://portal.lsicorp.com/event/2024-jib-nfa-tradeshow/
ATTACH;FMTTYPE=image/jpeg:https://portal.lsicorp.com/wp-content/uploads/banner-regsite970x330-JIB2024-72dpi.jpg
END:VEVENT
BEGIN:VEVENT
DTSTART;TZID=America/Chicago:20240625T080000
DTEND;TZID=America/Chicago:20240627T170000
DTSTAMP:20260424T075024
CREATED:20230627T204700Z
LAST-MODIFIED:20240528T204545Z
UID:10000057-1719302400-1719507600@portal.lsicorp.com
SUMMARY:Southwest Fuel & Convenience Expo
DESCRIPTION:10×10 Booth\, #313 \nLSI Representative: Jeff Hutchinson \nCo-Exhibiting w/Agency: RCI \n 
URL:https://portal.lsicorp.com/event/southwest-fuel-convenience-expo/
LOCATION:Henry B. Gonzalez Convention Center\, 900 E Market St\, San Antonio\, TX\, 78205\, United States
ATTACH;FMTTYPE=image/png:https://portal.lsicorp.com/wp-content/uploads/Screenshot-2023-06-27-164738.png
END:VEVENT
BEGIN:VEVENT
DTSTART;TZID=America/Los_Angeles:20240620T113000
DTEND;TZID=America/Los_Angeles:20240620T200000
DTSTAMP:20260424T075024
CREATED:20240401T145931Z
LAST-MODIFIED:20240528T204713Z
UID:10000096-1718883000-1718913600@portal.lsicorp.com
SUMMARY:Light! Design Expo 2024
DESCRIPTION:6×8 Booth\, #5 \nLSI Representatives: Don Pelletier\, Ben Peirick
URL:https://portal.lsicorp.com/event/light-design-expo-2024/
LOCATION:Pier 27\, James R. Herman Cruise Terminal The Embarcadero\, San Francisco\, CA\, 94133\, United States
ATTACH;FMTTYPE=image/jpeg:https://portal.lsicorp.com/wp-content/uploads/Pier27_Full-1200x630-1.jpg
END:VEVENT
END:VCALENDAR