BEGIN:VCALENDAR
VERSION:2.0
PRODID:-//LSI Portal - ECPv6.15.17.1//NONSGML v1.0//EN
CALSCALE:GREGORIAN
METHOD:PUBLISH
X-WR-CALNAME:LSI Portal
X-ORIGINAL-URL:https://portal.lsicorp.com
X-WR-CALDESC:Events for LSI Portal
REFRESH-INTERVAL;VALUE=DURATION:PT1H
X-Robots-Tag:noindex
X-PUBLISHED-TTL:PT1H
BEGIN:VTIMEZONE
TZID:America/Los_Angeles
BEGIN:DAYLIGHT
TZOFFSETFROM:-0800
TZOFFSETTO:-0700
TZNAME:PDT
DTSTART:20240310T100000
END:DAYLIGHT
BEGIN:STANDARD
TZOFFSETFROM:-0700
TZOFFSETTO:-0800
TZNAME:PST
DTSTART:20241103T090000
END:STANDARD
BEGIN:DAYLIGHT
TZOFFSETFROM:-0800
TZOFFSETTO:-0700
TZNAME:PDT
DTSTART:20250309T100000
END:DAYLIGHT
BEGIN:STANDARD
TZOFFSETFROM:-0700
TZOFFSETTO:-0800
TZNAME:PST
DTSTART:20251102T090000
END:STANDARD
BEGIN:DAYLIGHT
TZOFFSETFROM:-0800
TZOFFSETTO:-0700
TZNAME:PDT
DTSTART:20260308T100000
END:DAYLIGHT
BEGIN:STANDARD
TZOFFSETFROM:-0700
TZOFFSETTO:-0800
TZNAME:PST
DTSTART:20261101T090000
END:STANDARD
BEGIN:DAYLIGHT
TZOFFSETFROM:-0800
TZOFFSETTO:-0700
TZNAME:PDT
DTSTART:20270314T100000
END:DAYLIGHT
BEGIN:STANDARD
TZOFFSETFROM:-0700
TZOFFSETTO:-0800
TZNAME:PST
DTSTART:20271107T090000
END:STANDARD
END:VTIMEZONE
BEGIN:VEVENT
DTSTART;TZID=America/Los_Angeles:20260217T080000
DTEND;TZID=America/Los_Angeles:20260219T120000
DTSTAMP:20260423T072749
CREATED:20250828T161455Z
LAST-MODIFIED:20260211T181942Z
UID:10000236-1771315200-1771502400@portal.lsicorp.com
SUMMARY:WPMA Expo 2026
DESCRIPTION:(Western Petroleum Marketers Association) \n10×10 Booth\, #430 \nLSI Representatives: Dale Lovejoy\, Laura Corrigan\, Jimmy Ohms\, Patrick White\, Luke Clements\, John Fox
URL:https://portal.lsicorp.com/event/wpma-expo-2026/
LOCATION:MGM\, 3799 Las Vegas Blvd S\, Las Vegas\, 89109\, United States
ATTACH;FMTTYPE=image/jpeg:https://portal.lsicorp.com/wp-content/uploads/WX26-Hmpg-Banner042525-nlm1745984938.jpg
END:VEVENT
BEGIN:VEVENT
DTSTART;TZID=America/Los_Angeles:20250218T080000
DTEND;TZID=America/Los_Angeles:20250220T120000
DTSTAMP:20260423T072749
CREATED:20240806T174434Z
LAST-MODIFIED:20250217T135831Z
UID:10000109-1739865600-1740052800@portal.lsicorp.com
SUMMARY:WPMA Expo 2025
DESCRIPTION:(Western Petroleum Marketers Association) \n10×10 Booth \nLSI Representative: Jeff Hutchinson\, Dale Lovejoy\, Luke Clements
URL:https://portal.lsicorp.com/event/wpma-expo-2025/
LOCATION:MGM\, 3799 Las Vegas Blvd S\, Las Vegas\, 89109\, United States
ATTACH;FMTTYPE=image/jpeg:https://portal.lsicorp.com/wp-content/uploads/image.jpg
END:VEVENT
END:VCALENDAR